BEGIN:VCALENDAR
VERSION:2.0
PRODID:-//[BMX Club Sainte Victoire - TRETS] - ECPv4.9.11//NONSGML v1.0//EN
CALSCALE:GREGORIAN
METHOD:PUBLISH
X-WR-CALNAME:[BMX Club Sainte Victoire - TRETS]
X-ORIGINAL-URL:https://bmxsaintevictoire.com
X-WR-CALDESC:Évènements pour [BMX Club Sainte Victoire - TRETS]
BEGIN:VTIMEZONE
TZID:Europe/Paris
BEGIN:DAYLIGHT
TZOFFSETFROM:+0100
TZOFFSETTO:+0200
TZNAME:CEST
DTSTART:20200329T010000
END:DAYLIGHT
BEGIN:STANDARD
TZOFFSETFROM:+0200
TZOFFSETTO:+0100
TZNAME:CET
DTSTART:20201025T010000
END:STANDARD
END:VTIMEZONE
BEGIN:VEVENT
DTSTART;VALUE=DATE:20200119
DTEND;VALUE=DATE:20200120
DTSTAMP:20260423T152717
CREATED:20200106T211111Z
LAST-MODIFIED:20200106T212516Z
UID:4529-1579392000-1579478399@bmxsaintevictoire.com
SUMMARY:1ere Manche Sud PACA 2020
DESCRIPTION:1ere Manche Sud PACA 2020 au BMX Maximois\, le Dimanche 19 Janvier 2020. Pour toutes les catégories seuls les coureurs Licenciés 2020 sont autorisés à courir.\n Manche PACA : 10 € par pilote et par course\n  \n  \n\n1ere Manche Sud PACA 2020 \nBMX Maximois\n  \n  \n Invitation Ste Maxime\n  \n Règlement Coupe Région Sud\n
URL:https://bmxsaintevictoire.com/event/1er-manche-sud-paca-2020/
LOCATION:Sainte Maxime\, Piste Jean Terrat - Complexe sportif Bosquette\, Sainte Maxime\, 83120
CATEGORIES:Compétition Club
ATTACH;FMTTYPE=image/jpeg:https://bmxsaintevictoire.com/wp-content/uploads/2020/01/81676933_2695813970509284_4432372606993170432_n.jpg
END:VEVENT
END:VCALENDAR