BEGIN:VCALENDAR
VERSION:2.0
PRODID:-//[BMX Club Sainte Victoire - TRETS] - ECPv4.9.11//NONSGML v1.0//EN
CALSCALE:GREGORIAN
METHOD:PUBLISH
X-WR-CALNAME:[BMX Club Sainte Victoire - TRETS]
X-ORIGINAL-URL:https://bmxsaintevictoire.com
X-WR-CALDESC:Évènements pour [BMX Club Sainte Victoire - TRETS]
BEGIN:VTIMEZONE
TZID:Europe/Paris
BEGIN:DAYLIGHT
TZOFFSETFROM:+0100
TZOFFSETTO:+0200
TZNAME:CEST
DTSTART:20200329T010000
END:DAYLIGHT
BEGIN:STANDARD
TZOFFSETFROM:+0200
TZOFFSETTO:+0100
TZNAME:CET
DTSTART:20201025T010000
END:STANDARD
END:VTIMEZONE
BEGIN:VEVENT
DTSTART;VALUE=DATE:20200209
DTEND;VALUE=DATE:20200210
DTSTAMP:20260423T141453
CREATED:20200131T071330Z
LAST-MODIFIED:20200131T071510Z
UID:4540-1581206400-1581292799@bmxsaintevictoire.com
SUMMARY:2eme Manche Sud PACA 2020
DESCRIPTION:2eme Manche Sud PACA 2020 au LUC en Provence\, le Dimanche 9 Fevrier 2020. Pour toutes les catégories seuls les coureurs Licenciés 2020 sont autorisés à courir.\n Manche PACA : 10 € par pilote et par course \n  \n\n2eme Manche Sud PACA 2020\nLe Luc en Provence\n  \n  \n Invitation Le LUC en Provence\n  \n Règlement Coupe Région Sud\n
URL:https://bmxsaintevictoire.com/event/2eme-manche-sud-paca-2020/
LOCATION:Le Luc en Provence
CATEGORIES:Compétition Club
ATTACH;FMTTYPE=image/jpeg:https://bmxsaintevictoire.com/wp-content/uploads/2020/01/83505121_2238562939786268_298295412966555648_o.jpg
END:VEVENT
END:VCALENDAR