BEGIN:VCALENDAR
VERSION:2.0
PRODID:-//[BMX Club Sainte Victoire - TRETS] - ECPv4.9.11//NONSGML v1.0//EN
CALSCALE:GREGORIAN
METHOD:PUBLISH
X-WR-CALNAME:[BMX Club Sainte Victoire - TRETS]
X-ORIGINAL-URL:https://bmxsaintevictoire.com
X-WR-CALDESC:Évènements pour [BMX Club Sainte Victoire - TRETS]
BEGIN:VTIMEZONE
TZID:Europe/Paris
BEGIN:DAYLIGHT
TZOFFSETFROM:+0100
TZOFFSETTO:+0200
TZNAME:CEST
DTSTART:20170326T010000
END:DAYLIGHT
BEGIN:STANDARD
TZOFFSETFROM:+0200
TZOFFSETTO:+0100
TZNAME:CET
DTSTART:20171029T010000
END:STANDARD
END:VTIMEZONE
BEGIN:VEVENT
DTSTART;TZID=Europe/Paris:20170924T083000
DTEND;TZID=Europe/Paris:20170924T173000
DTSTAMP:20260423T100614
CREATED:20170904T070043Z
LAST-MODIFIED:20171016T130552Z
UID:1275-1506241800-1506274200@bmxsaintevictoire.com
SUMMARY:Trophée d’Automne : Les Pennes Mirabeau
DESCRIPTION:Le Trophée d’Automne sera ouvert à tous les licenciés FFC\n(licence accueil et à la journée acceptée)\nfa-trophy LES PENNES MIRABEAU : 24 Septembre 2017\nENGAGEMENT 9€\nConsultez les catégories courues et le Règlement :\n\nDe 8h30 (pour les pré-licencié\, Poussins et Pupilles..A partir de 12h30 pour les Benjamins\, Minimes\, Cadets\, Dames & Hommes 15 ans et +\, Master \n\n\n\n\n\n\nTIMING PRÉVISIONNEL TROPHÉE D’AUTOMNE 2017\nMatin de Prélicencié à Pupille + les Cruisers\nPrélicencié\, Poussin (1-2)\, Poussin F\, Pupille novice\, Pupille (F et G)\,\nLes 3 classes d’âges Cruisers\n8h30 / 8h45 essais contrôlés\n8h45 / 9h30 essais grille\n9h45 —> 3 manches\nà l’issue des 3 Manches 1/4 Finale\n1/2 Finale\nFinale\nAprès midi de Benjamin à Master\nBenjamin Novice\, Minime novice\, Benjamin\, Minime\, Cadet\, Dame 15 ans et +\,\nHomme Senior\, Master\n12h30/ 13h30 essais grille\n13h45 —-> 3 manches\nà l’issue des 3 Manches 1/4 Finale\n1/2 Finale\nFinale \n
URL:https://bmxsaintevictoire.com/event/trophee-dautomne/
LOCATION:Les Pennes Mirabeau\, Chemin de la ferme\, Les Pennes Mirabeau\, 13170\, France
END:VEVENT
END:VCALENDAR